BEGIN:VCALENDAR
VERSION:2.0
PRODID:-//Theta Rho Lambda Chapter of Alpha Phi Alpha Fraternity, Inc. - ECPv6.15.20//NONSGML v1.0//EN
CALSCALE:GREGORIAN
METHOD:PUBLISH
X-WR-CALNAME:Theta Rho Lambda Chapter of Alpha Phi Alpha Fraternity, Inc.
X-ORIGINAL-URL:https://www.thetarholambda.org
X-WR-CALDESC:Events for Theta Rho Lambda Chapter of Alpha Phi Alpha Fraternity, Inc.
REFRESH-INTERVAL;VALUE=DURATION:PT1H
X-Robots-Tag:noindex
X-PUBLISHED-TTL:PT1H
BEGIN:VTIMEZONE
TZID:America/New_York
BEGIN:DAYLIGHT
TZOFFSETFROM:-0500
TZOFFSETTO:-0400
TZNAME:EDT
DTSTART:20250309T070000
END:DAYLIGHT
BEGIN:STANDARD
TZOFFSETFROM:-0400
TZOFFSETTO:-0500
TZNAME:EST
DTSTART:20251102T060000
END:STANDARD
BEGIN:DAYLIGHT
TZOFFSETFROM:-0500
TZOFFSETTO:-0400
TZNAME:EDT
DTSTART:20260308T070000
END:DAYLIGHT
BEGIN:STANDARD
TZOFFSETFROM:-0400
TZOFFSETTO:-0500
TZNAME:EST
DTSTART:20261101T060000
END:STANDARD
BEGIN:DAYLIGHT
TZOFFSETFROM:-0500
TZOFFSETTO:-0400
TZNAME:EDT
DTSTART:20270314T070000
END:DAYLIGHT
BEGIN:STANDARD
TZOFFSETFROM:-0400
TZOFFSETTO:-0500
TZNAME:EST
DTSTART:20271107T060000
END:STANDARD
END:VTIMEZONE
BEGIN:VEVENT
DTSTART;TZID=America/New_York:20260422T110000
DTEND;TZID=America/New_York:20260422T140000
DTSTAMP:20260422T013741
CREATED:20260421T033321Z
LAST-MODIFIED:20260421T033321Z
UID:4384-1776855600-1776866400@www.thetarholambda.org
SUMMARY:Voter Registration Drive 2026
DESCRIPTION:Make your voice heard – it only takes a few minutes! \nJoin us on April 22 from 11 AM to 2 PM for a Voter Registration Drive. \n📍 Stop by\, get registered\, and be ready for upcoming elections. Bring a friend!
URL:https://www.thetarholambda.org/event/voter-registration-drive-2026/
LOCATION:George Mason University – Arlington Campus\, 3551 Fairfax Drive\, Arlington\, VA\, 22201
CATEGORIES:National Program
ATTACH;FMTTYPE=image/jpeg:https://www.thetarholambda.org/wp-content/uploads/2026/04/vphp-flyer-04-22-26.jpg
ORGANIZER;CN="Theta Rho Lambda":MAILTO:info@thetarholambda.org
END:VEVENT
END:VCALENDAR