BEGIN:VCALENDAR
VERSION:2.0
PRODID:-//Theta Rho Lambda Chapter of Alpha Phi Alpha Fraternity, Inc. - ECPv6.15.20//NONSGML v1.0//EN
CALSCALE:GREGORIAN
METHOD:PUBLISH
X-WR-CALNAME:Theta Rho Lambda Chapter of Alpha Phi Alpha Fraternity, Inc.
X-ORIGINAL-URL:https://www.thetarholambda.org
X-WR-CALDESC:Events for Theta Rho Lambda Chapter of Alpha Phi Alpha Fraternity, Inc.
REFRESH-INTERVAL;VALUE=DURATION:PT1H
X-Robots-Tag:noindex
X-PUBLISHED-TTL:PT1H
BEGIN:VTIMEZONE
TZID:America/New_York
BEGIN:DAYLIGHT
TZOFFSETFROM:-0500
TZOFFSETTO:-0400
TZNAME:EDT
DTSTART:20220313T070000
END:DAYLIGHT
BEGIN:STANDARD
TZOFFSETFROM:-0400
TZOFFSETTO:-0500
TZNAME:EST
DTSTART:20221106T060000
END:STANDARD
BEGIN:DAYLIGHT
TZOFFSETFROM:-0500
TZOFFSETTO:-0400
TZNAME:EDT
DTSTART:20230312T070000
END:DAYLIGHT
BEGIN:STANDARD
TZOFFSETFROM:-0400
TZOFFSETTO:-0500
TZNAME:EST
DTSTART:20231105T060000
END:STANDARD
BEGIN:DAYLIGHT
TZOFFSETFROM:-0500
TZOFFSETTO:-0400
TZNAME:EDT
DTSTART:20240310T070000
END:DAYLIGHT
BEGIN:STANDARD
TZOFFSETFROM:-0400
TZOFFSETTO:-0500
TZNAME:EST
DTSTART:20241103T060000
END:STANDARD
BEGIN:DAYLIGHT
TZOFFSETFROM:-0500
TZOFFSETTO:-0400
TZNAME:EDT
DTSTART:20250309T070000
END:DAYLIGHT
BEGIN:STANDARD
TZOFFSETFROM:-0400
TZOFFSETTO:-0500
TZNAME:EST
DTSTART:20251102T060000
END:STANDARD
BEGIN:DAYLIGHT
TZOFFSETFROM:-0500
TZOFFSETTO:-0400
TZNAME:EDT
DTSTART:20260308T070000
END:DAYLIGHT
BEGIN:STANDARD
TZOFFSETFROM:-0400
TZOFFSETTO:-0500
TZNAME:EST
DTSTART:20261101T060000
END:STANDARD
END:VTIMEZONE
BEGIN:VEVENT
DTSTART;TZID=America/New_York:20250412T123000
DTEND;TZID=America/New_York:20250412T170000
DTSTAMP:20260419T102930
CREATED:20250225T034726Z
LAST-MODIFIED:20250225T034726Z
UID:4044-1744461000-1744477200@www.thetarholambda.org
SUMMARY:Project Alpha (2025)
DESCRIPTION:Theta Rho Lambda will hold our annual Project Alpha Conference on Saturday\, March 9th\, 2024 from 12 pm – 4 pm. \n \nThis year’s conference will focus on sharing knowledge by combating ignorance and fears with factual information\, changing attitudes by providing motivation toward positive changes in sexual behavior\, and providing skills by creating a sense of empowerment and self-esteem. Sessions within the conference will be facilitated by brothers of Theta Rho Lambda and Planned Parenthood staff.\n\n \nYoung men who are enrolled in middle school\, high school\, or alternative programs are encouraged to register and attend. Note: Registration is required for attendance.\n\n \n\nAll brothers are encouraged to attend. Please share the attached flyer and registration link to support the conference. \n\n\nRegistration Site:  ProjectAlpha 2025
URL:https://www.thetarholambda.org/event/project-alpha-2025/
LOCATION:George Mason University – Arlington Campus\, 3551 Fairfax Drive\, Arlington\, VA\, 22201
CATEGORIES:Community Service
ATTACH;FMTTYPE=image/jpeg:https://www.thetarholambda.org/wp-content/uploads/2025/02/project-alpha-2025.jpg
ORGANIZER;CN="Theta Rho Lambda":MAILTO:info@thetarholambda.org
END:VEVENT
BEGIN:VEVENT
DTSTART;TZID=America/New_York:20240420T090000
DTEND;TZID=America/New_York:20240420T110000
DTSTAMP:20260419T102930
CREATED:20231006T012654Z
LAST-MODIFIED:20240408T204759Z
UID:3739-1713603600-1713610800@www.thetarholambda.org
SUMMARY:Quincy Park Clean Up (Spring 2024)
DESCRIPTION:
URL:https://www.thetarholambda.org/event/quincy-park-clean-up-spring-2024/
LOCATION:Quincy Park\, 1021 N. Quincy St.\, Arlington\, VA\, 22203
CATEGORIES:Community Service
ATTACH;FMTTYPE=image/png:https://www.thetarholambda.org/wp-content/uploads/2022/10/trl_logo.png
ORGANIZER;CN="Theta Rho Lambda":MAILTO:info@thetarholambda.org
END:VEVENT
BEGIN:VEVENT
DTSTART;TZID=America/New_York:20240330T071500
DTEND;TZID=America/New_York:20240330T233000
DTSTAMP:20260419T102930
CREATED:20231006T011213Z
LAST-MODIFIED:20231006T011213Z
UID:3733-1711782900-1711841400@www.thetarholambda.org
SUMMARY:Alive! Community Food Distribution (March 2024)
DESCRIPTION:
URL:https://www.thetarholambda.org/event/alive-community-food-distribution-march-2024/
LOCATION:TBD
CATEGORIES:Community Service
ATTACH;FMTTYPE=image/png:https://www.thetarholambda.org/wp-content/uploads/2022/10/trl_logo.png
ORGANIZER;CN="Theta Rho Lambda":MAILTO:info@thetarholambda.org
END:VEVENT
BEGIN:VEVENT
DTSTART;TZID=America/New_York:20240323T090000
DTEND;TZID=America/New_York:20240323T110000
DTSTAMP:20260419T102930
CREATED:20231006T012201Z
LAST-MODIFIED:20240316T230452Z
UID:3737-1711184400-1711191600@www.thetarholambda.org
SUMMARY:Highway Cleanup (Spring 2024)
DESCRIPTION:
URL:https://www.thetarholambda.org/event/highway-cleanup-spring-2024/
LOCATION:TBD
CATEGORIES:Community Service
ATTACH;FMTTYPE=image/png:https://www.thetarholambda.org/wp-content/uploads/2022/10/trl_logo.png
ORGANIZER;CN="Theta Rho Lambda":MAILTO:info@thetarholambda.org
END:VEVENT
BEGIN:VEVENT
DTSTART;TZID=America/New_York:20240127T071500
DTEND;TZID=America/New_York:20240127T113000
DTSTAMP:20260419T102930
CREATED:20231006T010903Z
LAST-MODIFIED:20231006T010903Z
UID:3731-1706339700-1706355000@www.thetarholambda.org
SUMMARY:Alive! Community Food Distribution (January 2024)
DESCRIPTION:
URL:https://www.thetarholambda.org/event/alive-community-food-distribution-january-2024/
LOCATION:TBD
CATEGORIES:Community Service
ATTACH;FMTTYPE=image/png:https://www.thetarholambda.org/wp-content/uploads/2022/10/trl_logo.png
ORGANIZER;CN="Theta Rho Lambda":MAILTO:info@thetarholambda.org
END:VEVENT
BEGIN:VEVENT
DTSTART;VALUE=DATE:20240115
DTEND;VALUE=DATE:20240116
DTSTAMP:20260419T102930
CREATED:20231006T010241Z
LAST-MODIFIED:20231225T014322Z
UID:3729-1705276800-1705363199@www.thetarholambda.org
SUMMARY:MLK Day of Service (2024)
DESCRIPTION:
URL:https://www.thetarholambda.org/event/mlk-day-of-service-2024/
LOCATION:TBD
CATEGORIES:Community Service
ATTACH;FMTTYPE=image/png:https://www.thetarholambda.org/wp-content/uploads/2022/10/cropped-trl_logo.png
ORGANIZER;CN="Theta Rho Lambda":MAILTO:info@thetarholambda.org
END:VEVENT
BEGIN:VEVENT
DTSTART;VALUE=DATE:20231218
DTEND;VALUE=DATE:20231219
DTSTAMP:20260419T102930
CREATED:20231006T010037Z
LAST-MODIFIED:20231006T010037Z
UID:3726-1702857600-1702943999@www.thetarholambda.org
SUMMARY:Toys for Tots (2023)
DESCRIPTION:
URL:https://www.thetarholambda.org/event/toys-for-tots-2023/
LOCATION:Helen Day Preschool Academy\, 1224 Princess St\, Alexandria\, VA\, 22314
CATEGORIES:Community Service
ATTACH;FMTTYPE=image/png:https://www.thetarholambda.org/wp-content/uploads/2022/10/trl_logo.png
ORGANIZER;CN="Theta Rho Lambda":MAILTO:info@thetarholambda.org
END:VEVENT
BEGIN:VEVENT
DTSTART;TZID=America/New_York:20231120T190000
DTEND;TZID=America/New_York:20231120T200000
DTSTAMP:20260419T102930
CREATED:20231006T005008Z
LAST-MODIFIED:20231006T005134Z
UID:3721-1700506800-1700510400@www.thetarholambda.org
SUMMARY:Thanksgiving Baskets Distribution (2023)
DESCRIPTION:
URL:https://www.thetarholambda.org/event/thanksgiving-baskets-distribution-2023/
LOCATION:Ruby Tucker Center\, 322 Tancil Ct\, Alexandria\, VA\, 22314
CATEGORIES:Community Service
ATTACH;FMTTYPE=image/png:https://www.thetarholambda.org/wp-content/uploads/2022/10/trl_logo.png
ORGANIZER;CN="Theta Rho Lambda":MAILTO:info@thetarholambda.org
END:VEVENT
BEGIN:VEVENT
DTSTART;TZID=America/New_York:20231119T140000
DTEND;TZID=America/New_York:20231119T160000
DTSTAMP:20260419T102930
CREATED:20231006T005241Z
LAST-MODIFIED:20231111T152901Z
UID:3724-1700402400-1700409600@www.thetarholambda.org
SUMMARY:Thanksgiving Baskets Preparation (2023)
DESCRIPTION:
URL:https://www.thetarholambda.org/event/thanksgiving-baskets-preparation-2023/
LOCATION:TBD
CATEGORIES:Community Service
ATTACH;FMTTYPE=image/png:https://www.thetarholambda.org/wp-content/uploads/2022/10/trl_logo.png
ORGANIZER;CN="Theta Rho Lambda":MAILTO:info@thetarholambda.org
END:VEVENT
BEGIN:VEVENT
DTSTART;TZID=America/New_York:20230506T093000
DTEND;TZID=America/New_York:20230506T140000
DTSTAMP:20260419T102930
CREATED:20230426T020029Z
LAST-MODIFIED:20230426T020405Z
UID:3547-1683365400-1683381600@www.thetarholambda.org
SUMMARY:Project Alpha 2023
DESCRIPTION:The Theta Rho Lambda Education Foundation invites all young men (ages 12-17) to join us for the 2023 Project Alpha. Project Alpha is a collaborative effort between Alpha Phi Alpha Fraternity\, Inc.\, and the March of Dimes Birth Defects Foundation established to provide education\, motivation\, and skill-building on issues of responsibility\, relationships\, teen pregnancy\, and sexually transmitted diseases to young males. To register\, please visit TRLEFProjectAlpha23.eventbrite.com. MUST REGISTER TO ATTEND! Registration ends May 4th.
URL:https://www.thetarholambda.org/event/project-alpha-2023/
LOCATION:George Mason University – Arlington Campus\, 3551 Fairfax Drive\, Arlington\, VA\, 22201
CATEGORIES:Community Service
ATTACH;FMTTYPE=image/png:https://www.thetarholambda.org/wp-content/uploads/2023/04/project-alpha-flyer-2023.png
ORGANIZER;CN="Theta Rho Lambda":MAILTO:info@thetarholambda.org
END:VEVENT
END:VCALENDAR