BEGIN:VCALENDAR
VERSION:2.0
PRODID:-//Theta Rho Lambda Chapter of Alpha Phi Alpha Fraternity, Inc. - ECPv6.15.20//NONSGML v1.0//EN
CALSCALE:GREGORIAN
METHOD:PUBLISH
X-ORIGINAL-URL:https://www.thetarholambda.org
X-WR-CALDESC:Events for Theta Rho Lambda Chapter of Alpha Phi Alpha Fraternity, Inc.
REFRESH-INTERVAL;VALUE=DURATION:PT1H
X-Robots-Tag:noindex
X-PUBLISHED-TTL:PT1H
BEGIN:VTIMEZONE
TZID:America/New_York
BEGIN:DAYLIGHT
TZOFFSETFROM:-0500
TZOFFSETTO:-0400
TZNAME:EDT
DTSTART:20210314T070000
END:DAYLIGHT
BEGIN:STANDARD
TZOFFSETFROM:-0400
TZOFFSETTO:-0500
TZNAME:EST
DTSTART:20211107T060000
END:STANDARD
BEGIN:DAYLIGHT
TZOFFSETFROM:-0500
TZOFFSETTO:-0400
TZNAME:EDT
DTSTART:20220313T070000
END:DAYLIGHT
BEGIN:STANDARD
TZOFFSETFROM:-0400
TZOFFSETTO:-0500
TZNAME:EST
DTSTART:20221106T060000
END:STANDARD
BEGIN:DAYLIGHT
TZOFFSETFROM:-0500
TZOFFSETTO:-0400
TZNAME:EDT
DTSTART:20230312T070000
END:DAYLIGHT
BEGIN:STANDARD
TZOFFSETFROM:-0400
TZOFFSETTO:-0500
TZNAME:EST
DTSTART:20231105T060000
END:STANDARD
BEGIN:DAYLIGHT
TZOFFSETFROM:-0500
TZOFFSETTO:-0400
TZNAME:EDT
DTSTART:20240310T070000
END:DAYLIGHT
BEGIN:STANDARD
TZOFFSETFROM:-0400
TZOFFSETTO:-0500
TZNAME:EST
DTSTART:20241103T060000
END:STANDARD
BEGIN:DAYLIGHT
TZOFFSETFROM:-0500
TZOFFSETTO:-0400
TZNAME:EDT
DTSTART:20250309T070000
END:DAYLIGHT
BEGIN:STANDARD
TZOFFSETFROM:-0400
TZOFFSETTO:-0500
TZNAME:EST
DTSTART:20251102T060000
END:STANDARD
BEGIN:DAYLIGHT
TZOFFSETFROM:-0500
TZOFFSETTO:-0400
TZNAME:EDT
DTSTART:20260308T070000
END:DAYLIGHT
BEGIN:STANDARD
TZOFFSETFROM:-0400
TZOFFSETTO:-0500
TZNAME:EST
DTSTART:20261101T060000
END:STANDARD
BEGIN:DAYLIGHT
TZOFFSETFROM:-0500
TZOFFSETTO:-0400
TZNAME:EDT
DTSTART:20270314T070000
END:DAYLIGHT
BEGIN:STANDARD
TZOFFSETFROM:-0400
TZOFFSETTO:-0500
TZNAME:EST
DTSTART:20271107T060000
END:STANDARD
END:VTIMEZONE
BEGIN:VEVENT
DTSTART;TZID=America/New_York:20260411T100000
DTEND;TZID=America/New_York:20260411T120000
DTSTAMP:20260419T085655
CREATED:20260103T193544Z
LAST-MODIFIED:20260103T193606Z
UID:4275-1775901600-1775908800@www.thetarholambda.org
SUMMARY:Chapter Meeting (April 2026)
DESCRIPTION:The Theta Rho Lambda Chapter of Alpha Phi Alpha Fraternity\, Inc. will hold our April chapter meeting on Saturday\, April 11\, 2026\, commencing at 10:00 am. Please contact the chapter for details. The meeting is for Brothers only\, and the attire is Alpha Sharp.
URL:https://www.thetarholambda.org/event/chapter-meeting-april-2026/
LOCATION:TBD
CATEGORIES:Chapter Meetings
ATTACH;FMTTYPE=image/png:https://www.thetarholambda.org/wp-content/uploads/2025/04/chapter_meeting_logo.png
ORGANIZER;CN="Theta Rho Lambda":MAILTO:info@thetarholambda.org
END:VEVENT
BEGIN:VEVENT
DTSTART;TZID=America/New_York:20260314T100000
DTEND;TZID=America/New_York:20260314T120000
DTSTAMP:20260419T085655
CREATED:20260103T193355Z
LAST-MODIFIED:20260103T193355Z
UID:4272-1773482400-1773489600@www.thetarholambda.org
SUMMARY:Chapter Meeting (March 2026)
DESCRIPTION:The Theta Rho Lambda Chapter of Alpha Phi Alpha Fraternity\, Inc. will hold our March chapter meeting on Saturday\, March 14\, 2026\, commencing at 10:00 am. Please contact the chapter for details. The meeting is for Brothers only\, and the attire is Alpha Sharp.
URL:https://www.thetarholambda.org/event/chapter-meeting-march-2026/
LOCATION:TBD
CATEGORIES:Chapter Meetings
ATTACH;FMTTYPE=image/png:https://www.thetarholambda.org/wp-content/uploads/2025/04/chapter_meeting_logo.png
ORGANIZER;CN="Theta Rho Lambda":MAILTO:info@thetarholambda.org
END:VEVENT
BEGIN:VEVENT
DTSTART;TZID=America/New_York:20260214T100000
DTEND;TZID=America/New_York:20260214T120000
DTSTAMP:20260419T085655
CREATED:20260103T193021Z
LAST-MODIFIED:20260103T193231Z
UID:4266-1771063200-1771070400@www.thetarholambda.org
SUMMARY:Chapter Meeting (February 2026)
DESCRIPTION:The Theta Rho Lambda Chapter of Alpha Phi Alpha Fraternity\, Inc. will hold our February chapter meeting on Saturday\, February 14\, 2026\, commencing at 10:00 am. Please contact the chapter for details. The meeting is for Brothers only\, and the attire is Alpha Sharp.
URL:https://www.thetarholambda.org/event/chapter-meeting-february-2026/
LOCATION:TBD
CATEGORIES:Chapter Meetings
ATTACH;FMTTYPE=image/png:https://www.thetarholambda.org/wp-content/uploads/2025/04/chapter_meeting_logo.png
ORGANIZER;CN="Theta Rho Lambda":MAILTO:info@thetarholambda.org
END:VEVENT
BEGIN:VEVENT
DTSTART;TZID=America/New_York:20260110T100000
DTEND;TZID=America/New_York:20260110T120000
DTSTAMP:20260419T085655
CREATED:20260103T192802Z
LAST-MODIFIED:20260103T193208Z
UID:4263-1768039200-1768046400@www.thetarholambda.org
SUMMARY:Chapter Meeting (January 2026)
DESCRIPTION:The Theta Rho Lambda Chapter of Alpha Phi Alpha Fraternity\, Inc. will hold our January chapter meeting on Saturday\, January 10\, 2026\, commencing at 10:00 am. Please contact the chapter for details. The meeting is for Brothers only\, and the attire is Alpha Sharp.
URL:https://www.thetarholambda.org/event/chapter-meeting-january-2026/
LOCATION:TBD
CATEGORIES:Chapter Meetings
ATTACH;FMTTYPE=image/png:https://www.thetarholambda.org/wp-content/uploads/2025/04/chapter_meeting_logo.png
ORGANIZER;CN="Theta Rho Lambda":MAILTO:info@thetarholambda.org
END:VEVENT
BEGIN:VEVENT
DTSTART;TZID=America/New_York:20260106T190600
DTEND;TZID=America/New_York:20260106T203000
DTSTAMP:20260419T085655
CREATED:20251203T043505Z
LAST-MODIFIED:20251229T194837Z
UID:4248-1767726360-1767731400@www.thetarholambda.org
SUMMARY:Informational Seminar (2026)
DESCRIPTION:Alpha Phi Alpha Fraternity\, Inc.\, Theta Rho Lambda Chapter\, will host an Informational Seminar on Tuesday\, January 6th at 7:06 p.m. at George Mason University (Mason Square)\, located at 3351 Fairfax Dr.\, Arlington\, VA 22201\, in Van Metre Hall\, Room 467. All men who are interested in learning about membership in Alpha Phi Alpha Fraternity\, Inc. should RSVP and register no later than Sunday\, January 4th\, 2026\, by emailing membership@thetarholambda.org. RSVP is mandatory for admission.
URL:https://www.thetarholambda.org/event/informational-seminar-2026/
LOCATION:George Mason University – Arlington Campus\, 3551 Fairfax Drive\, Arlington\, VA\, 22201
CATEGORIES:Meetings
ATTACH;FMTTYPE=image/png:https://www.thetarholambda.org/wp-content/uploads/2025/12/information-seminar-2026-scaled.png
ORGANIZER;CN="Theta Rho Lambda":MAILTO:info@thetarholambda.org
END:VEVENT
BEGIN:VEVENT
DTSTART;TZID=America/New_York:20251213T100000
DTEND;TZID=America/New_York:20251213T120000
DTSTAMP:20260419T085655
CREATED:20240212T034409Z
LAST-MODIFIED:20250403T014905Z
UID:3835-1765620000-1765627200@www.thetarholambda.org
SUMMARY:Chapter Meeting (December 2025)
DESCRIPTION:The Theta Rho Lambda Chapter of Alpha Phi Alpha Fraternity\, Inc. will hold our December chapter meeting on Saturday\, December 13\, 2025\, commencing at 10:00 am. Please contact the chapter for details. The meeting is for Brothers only and the attire is Alpha Sharp.
URL:https://www.thetarholambda.org/event/chapter-meeting-december-2025/
LOCATION:TBD
CATEGORIES:Chapter Meetings
ATTACH;FMTTYPE=image/png:https://www.thetarholambda.org/wp-content/uploads/2025/04/chapter_meeting_logo.png
ORGANIZER;CN="Theta Rho Lambda":MAILTO:info@thetarholambda.org
END:VEVENT
BEGIN:VEVENT
DTSTART;TZID=America/New_York:20251108T100000
DTEND;TZID=America/New_York:20251108T120000
DTSTAMP:20260419T085655
CREATED:20240212T034144Z
LAST-MODIFIED:20250403T014848Z
UID:3834-1762596000-1762603200@www.thetarholambda.org
SUMMARY:Chapter Meeting (November 2025)
DESCRIPTION:The Theta Rho Lambda Chapter of Alpha Phi Alpha Fraternity\, Inc. will hold our November chapter meeting on Saturday\, November 8\, 2025\, commencing at 10:00 am. Please contact the chapter for details. The meeting is for Brothers only and the attire is Alpha Sharp.
URL:https://www.thetarholambda.org/event/chapter-meeting-november-2025/
LOCATION:TBD
CATEGORIES:Chapter Meetings
ATTACH;FMTTYPE=image/png:https://www.thetarholambda.org/wp-content/uploads/2025/04/chapter_meeting_logo.png
ORGANIZER;CN="Theta Rho Lambda":MAILTO:info@thetarholambda.org
END:VEVENT
BEGIN:VEVENT
DTSTART;TZID=America/New_York:20251011T100000
DTEND;TZID=America/New_York:20251011T120000
DTSTAMP:20260419T085655
CREATED:20240212T033531Z
LAST-MODIFIED:20250403T014830Z
UID:3831-1760176800-1760184000@www.thetarholambda.org
SUMMARY:Chapter Meeting (October 2025)
DESCRIPTION:The Theta Rho Lambda Chapter of Alpha Phi Alpha Fraternity\, Inc. will hold our October chapter meeting on Saturday\, October 11\, 2025\, commencing at 10:00 am. Please contact the chapter for details. The meeting is for Brothers only and the attire is Alpha Sharp.
URL:https://www.thetarholambda.org/event/chapter-meeting-october-2025/
LOCATION:TBD
CATEGORIES:Chapter Meetings
ATTACH;FMTTYPE=image/png:https://www.thetarholambda.org/wp-content/uploads/2025/04/chapter_meeting_logo.png
ORGANIZER;CN="Theta Rho Lambda":MAILTO:info@thetarholambda.org
END:VEVENT
BEGIN:VEVENT
DTSTART;TZID=America/New_York:20250906T100000
DTEND;TZID=America/New_York:20250906T120000
DTSTAMP:20260419T085655
CREATED:20240212T033104Z
LAST-MODIFIED:20250814T000243Z
UID:3828-1757152800-1757160000@www.thetarholambda.org
SUMMARY:Chapter Meeting (September 2025)
DESCRIPTION:The Theta Rho Lambda Chapter of Alpha Phi Alpha Fraternity\, Inc. will hold our September chapter meeting on Saturday\, September 13\, 2025\, commencing at 10:00 am. Please contact the chapter for details. The meeting is for Brothers only and the attire is Alpha Sharp.
URL:https://www.thetarholambda.org/event/chapter-meeting-september-2025/
LOCATION:TBD
CATEGORIES:Chapter Meetings
ATTACH;FMTTYPE=image/png:https://www.thetarholambda.org/wp-content/uploads/2025/04/chapter_meeting_logo.png
ORGANIZER;CN="Theta Rho Lambda":MAILTO:info@thetarholambda.org
END:VEVENT
BEGIN:VEVENT
DTSTART;TZID=America/New_York:20250614T100000
DTEND;TZID=America/New_York:20250614T160000
DTSTAMP:20260419T085655
CREATED:20240212T031832Z
LAST-MODIFIED:20250403T014723Z
UID:3822-1749895200-1749916800@www.thetarholambda.org
SUMMARY:Chapter Retreat (June 2025)
DESCRIPTION:The Theta Rho Lambda Chapter of Alpha Phi Alpha Fraternity\, Inc. will hold our chapter retreat meeting on Saturday\, June 14\, 2025\, commencing at 10:00 am. Please contact the chapter for details. The meeting is for Brothers only.
URL:https://www.thetarholambda.org/event/chapter-retreat-june-2025/
LOCATION:TBD
CATEGORIES:Meetings
ATTACH;FMTTYPE=image/png:https://www.thetarholambda.org/wp-content/uploads/2025/04/chapter_meeting_logo.png
ORGANIZER;CN="Theta Rho Lambda":MAILTO:info@thetarholambda.org
END:VEVENT
BEGIN:VEVENT
DTSTART;TZID=America/New_York:20250510T100000
DTEND;TZID=America/New_York:20250510T120000
DTSTAMP:20260419T085655
CREATED:20240212T031345Z
LAST-MODIFIED:20250403T014605Z
UID:3820-1746871200-1746878400@www.thetarholambda.org
SUMMARY:Chapter Meeting (May 2025)
DESCRIPTION:The Theta Rho Lambda Chapter of Alpha Phi Alpha Fraternity\, Inc. will hold our May chapter meeting on Saturday\, May 10\, 2025\, commencing at 10:00 am. Please contact the chapter for details. The meeting is for Brothers only and the attire is Alpha Sharp.
URL:https://www.thetarholambda.org/event/chapter-meeting-may-2025/
LOCATION:TBD
CATEGORIES:Chapter Meetings
ATTACH;FMTTYPE=image/png:https://www.thetarholambda.org/wp-content/uploads/2025/04/chapter_meeting_logo.png
ORGANIZER;CN="Theta Rho Lambda":MAILTO:info@thetarholambda.org
END:VEVENT
BEGIN:VEVENT
DTSTART;TZID=America/New_York:20250412T100000
DTEND;TZID=America/New_York:20250412T120000
DTSTAMP:20260419T085655
CREATED:20240210T163444Z
LAST-MODIFIED:20250403T014418Z
UID:3802-1744452000-1744459200@www.thetarholambda.org
SUMMARY:Chapter Meeting (April 2025)
DESCRIPTION:The Theta Rho Lambda Chapter of Alpha Phi Alpha Fraternity\, Inc. will hold our April chapter meeting on Saturday\, April 12\, 2025\, commencing at 10:00 am. Please contact the chapter for details. The meeting is for Brothers only and the attire is Alpha Sharp.
URL:https://www.thetarholambda.org/event/chapter-meeting-april-2025/
LOCATION:TBD
CATEGORIES:Chapter Meetings
ATTACH;FMTTYPE=image/png:https://www.thetarholambda.org/wp-content/uploads/2025/04/chapter_meeting_logo.png
ORGANIZER;CN="Theta Rho Lambda":MAILTO:info@thetarholambda.org
END:VEVENT
BEGIN:VEVENT
DTSTART;TZID=America/New_York:20250308T100000
DTEND;TZID=America/New_York:20250308T120000
DTSTAMP:20260419T085655
CREATED:20240210T162848Z
LAST-MODIFIED:20241220T015528Z
UID:3801-1741428000-1741435200@www.thetarholambda.org
SUMMARY:Chapter Meeting (March 2025)
DESCRIPTION:The Theta Rho Lambda Chapter of Alpha Phi Alpha Fraternity\, Inc. will hold our March chapter meeting on Saturday\, March 8\, 2025\, commencing at 10:00 am. Please contact the chapter for details. The meeting is for Brothers only and the attire is Alpha Sharp.
URL:https://www.thetarholambda.org/event/chapter-meeting-march-2025/
LOCATION:TBD
CATEGORIES:Chapter Meetings
ATTACH;FMTTYPE=image/png:https://www.thetarholambda.org/wp-content/uploads/2022/10/chapter_meeting_logo.png
ORGANIZER;CN="Theta Rho Lambda":MAILTO:info@thetarholambda.org
END:VEVENT
BEGIN:VEVENT
DTSTART;TZID=America/New_York:20250208T100000
DTEND;TZID=America/New_York:20250208T120000
DTSTAMP:20260419T085655
CREATED:20221023T034620Z
LAST-MODIFIED:20241220T015453Z
UID:2843-1739008800-1739016000@www.thetarholambda.org
SUMMARY:Chapter Meeting (February 2025)
DESCRIPTION:The Theta Rho Lambda Chapter of Alpha Phi Alpha Fraternity\, Inc. will hold our December chapter meeting on Saturday\, February 8\, 2025\, commencing at 10:00 am. Please contact the chapter for details. The meeting is for Brothers only and the attire is Alpha Sharp.
URL:https://www.thetarholambda.org/event/chapter-meeting-february-2025/
LOCATION:TBD
CATEGORIES:Chapter Meetings
ATTACH;FMTTYPE=image/png:https://www.thetarholambda.org/wp-content/uploads/2022/10/chapter_meeting_logo.png
ORGANIZER;CN="Theta Rho Lambda":MAILTO:info@thetarholambda.org
END:VEVENT
BEGIN:VEVENT
DTSTART;TZID=America/New_York:20250111T100000
DTEND;TZID=America/New_York:20250111T120000
DTSTAMP:20260419T085655
CREATED:20221023T034415Z
LAST-MODIFIED:20241220T015056Z
UID:2832-1736589600-1736596800@www.thetarholambda.org
SUMMARY:Chapter Meeting (January 2025)
DESCRIPTION:The Theta Rho Lambda Chapter of Alpha Phi Alpha Fraternity\, Inc. will hold our Januar chapter meeting on Saturday\, January 11\, 2025\, commencing at 10:00 am. Please contact the chapter for details. The meeting is for Brothers only and the attire is Alpha Sharp.
URL:https://www.thetarholambda.org/event/chapter-meeting-january-2025/
LOCATION:TBD
CATEGORIES:Chapter Meetings
ATTACH;FMTTYPE=image/png:https://www.thetarholambda.org/wp-content/uploads/2022/10/chapter_meeting_logo.png
ORGANIZER;CN="Theta Rho Lambda":MAILTO:info@thetarholambda.org
END:VEVENT
BEGIN:VEVENT
DTSTART;TZID=America/New_York:20240228T193000
DTEND;TZID=America/New_York:20240228T210000
DTSTAMP:20260419T085655
CREATED:20240212T005226Z
LAST-MODIFIED:20240212T005226Z
UID:3813-1709148600-1709154000@www.thetarholambda.org
SUMMARY:A Community Visit with Delegate Adele McClure
DESCRIPTION:Join us for a Community Visit with newly-elected Delegate Adele McClure! February 28\, 2024 – 7:30 p.m. Register HERE for this free event.
URL:https://www.thetarholambda.org/event/a-community-visit-with-delegate-adele-mcclure/
CATEGORIES:Meetings
ATTACH;FMTTYPE=image/png:https://www.thetarholambda.org/wp-content/uploads/2024/02/delegate_adele_mclure_community_visit.png
ORGANIZER;CN="Theta Rho Lambda":MAILTO:info@thetarholambda.org
END:VEVENT
BEGIN:VEVENT
DTSTART;TZID=America/New_York:20231209T100000
DTEND;TZID=America/New_York:20231209T120000
DTSTAMP:20260419T085655
CREATED:20230614T032217Z
LAST-MODIFIED:20230614T032217Z
UID:3608-1702116000-1702123200@www.thetarholambda.org
SUMMARY:Chapter Meeting (December 2023)
DESCRIPTION:The Theta Rho Lambda Chapter of Alpha Phi Alpha Fraternity\, Inc. will hold our December chapter meeting on Saturday\, September 9\, 2023\, commencing at 10:00 am. Please contact the chapter for details. The meeting is for Brothers only and the attire is Alpha Sharp.
URL:https://www.thetarholambda.org/event/chapter-meeting-december-2023/
LOCATION:TBD
CATEGORIES:Chapter Meetings
ATTACH;FMTTYPE=image/png:https://www.thetarholambda.org/wp-content/uploads/2022/10/chapter_meeting_logo.png
ORGANIZER;CN="Theta Rho Lambda":MAILTO:info@thetarholambda.org
END:VEVENT
BEGIN:VEVENT
DTSTART;TZID=America/New_York:20231128T190000
DTEND;TZID=America/New_York:20231128T210000
DTSTAMP:20260419T085655
CREATED:20231122T014839Z
LAST-MODIFIED:20231122T014839Z
UID:3775-1701198000-1701205200@www.thetarholambda.org
SUMMARY:Informational Seminar (2023)
DESCRIPTION:The Brothers of the Theta Rho Lambda Chapter of Alpha Phi Alpha Fraternity\, Inc. will hold an informational seminar on Tuesday\, November 28 at 7:06 PM. All men interested in learning how to become an Alpha man are welcomed. To attend\, please RSVP no later than Saturday\, November 25 by emailing membership@thetarholambda.org.
URL:https://www.thetarholambda.org/event/informational-seminar-2023/
LOCATION:TBD
CATEGORIES:Meetings
ATTACH;FMTTYPE=image/jpeg:https://www.thetarholambda.org/wp-content/uploads/2023/11/alpha-informational-2023-scaled.jpg
END:VEVENT
BEGIN:VEVENT
DTSTART;TZID=America/New_York:20231111T100000
DTEND;TZID=America/New_York:20231111T120000
DTSTAMP:20260419T085655
CREATED:20230614T032052Z
LAST-MODIFIED:20230614T032237Z
UID:3607-1699696800-1699704000@www.thetarholambda.org
SUMMARY:Chapter Meeting (November 2023)
DESCRIPTION:The Theta Rho Lambda Chapter of Alpha Phi Alpha Fraternity\, Inc. will hold our November chapter meeting on Saturday\, November 9\, 2023\, commencing at 10:00 am. Please contact the chapter for details. The meeting is for Brothers only and the attire is Alpha Sharp.
URL:https://www.thetarholambda.org/event/chapter-meeting-november-2023/
LOCATION:TBD
CATEGORIES:Chapter Meetings
ATTACH;FMTTYPE=image/png:https://www.thetarholambda.org/wp-content/uploads/2022/10/chapter_meeting_logo.png
ORGANIZER;CN="Theta Rho Lambda":MAILTO:info@thetarholambda.org
END:VEVENT
BEGIN:VEVENT
DTSTART;TZID=America/New_York:20231014T100000
DTEND;TZID=America/New_York:20231014T120000
DTSTAMP:20260419T085655
CREATED:20230614T031919Z
LAST-MODIFIED:20230614T032111Z
UID:3605-1697277600-1697284800@www.thetarholambda.org
SUMMARY:Chapter Meeting (October 2023)
DESCRIPTION:The Theta Rho Lambda Chapter of Alpha Phi Alpha Fraternity\, Inc. will hold our October chapter meeting on Saturday\, October 14\, 2023\, commencing at 10:00 am. Please contact the chapter for details. The meeting is for Brothers only and the attire is Alpha Sharp.
URL:https://www.thetarholambda.org/event/chapter-meeting-october-2023/
LOCATION:TBD
CATEGORIES:Chapter Meetings
ATTACH;FMTTYPE=image/png:https://www.thetarholambda.org/wp-content/uploads/2022/10/chapter_meeting_logo.png
ORGANIZER;CN="Theta Rho Lambda":MAILTO:info@thetarholambda.org
END:VEVENT
BEGIN:VEVENT
DTSTART;TZID=America/New_York:20230909T100000
DTEND;TZID=America/New_York:20230909T120000
DTSTAMP:20260419T085655
CREATED:20230614T031639Z
LAST-MODIFIED:20230614T032117Z
UID:3602-1694253600-1694260800@www.thetarholambda.org
SUMMARY:Chapter Meeting (September 2023)
DESCRIPTION:The Theta Rho Lambda Chapter of Alpha Phi Alpha Fraternity\, Inc. will hold our September chapter meeting on Saturday\, September 9\, 2023\, commencing at 10:00 am. Please contact the chapter for details. The meeting is for Brothers only and the attire is Alpha Sharp.
URL:https://www.thetarholambda.org/event/chapter-meeting-september-2023/
LOCATION:TBD
CATEGORIES:Chapter Meetings
ATTACH;FMTTYPE=image/png:https://www.thetarholambda.org/wp-content/uploads/2022/10/chapter_meeting_logo.png
ORGANIZER;CN="Theta Rho Lambda":MAILTO:info@thetarholambda.org
END:VEVENT
BEGIN:VEVENT
DTSTART;TZID=America/New_York:20230610T100000
DTEND;TZID=America/New_York:20230610T120000
DTSTAMP:20260419T085655
CREATED:20221023T035709Z
LAST-MODIFIED:20221023T035709Z
UID:2851-1686391200-1686398400@www.thetarholambda.org
SUMMARY:Chapter Retreat (2023)
DESCRIPTION:The Theta Rho Lambda Chapter of Alpha Phi Alpha Fraternity\, Inc. will hold our December chapter meeting on Saturday\, June 10\, 2022\, commencing at 10:00 am. Please contact the chapter for details. The meeting is for Brothers only and the attire is Alpha Sharp.
URL:https://www.thetarholambda.org/event/chapter-retreat-2023/
LOCATION:TBD
CATEGORIES:Chapter Meetings
ATTACH;FMTTYPE=image/png:https://www.thetarholambda.org/wp-content/uploads/2022/10/chapter_meeting_logo.png
ORGANIZER;CN="Theta Rho Lambda":MAILTO:info@thetarholambda.org
END:VEVENT
BEGIN:VEVENT
DTSTART;TZID=America/New_York:20230513T100000
DTEND;TZID=America/New_York:20230513T120000
DTSTAMP:20260419T085655
CREATED:20221023T035558Z
LAST-MODIFIED:20221023T035558Z
UID:2850-1683972000-1683979200@www.thetarholambda.org
SUMMARY:Chapter Meeting (May 2023)
DESCRIPTION:The Theta Rho Lambda Chapter of Alpha Phi Alpha Fraternity\, Inc. will hold our December chapter meeting on Saturday\, May 13\, 2022\, commencing at 10:00 am. Please contact the chapter for details. The meeting is for Brothers only and the attire is Alpha Sharp.
URL:https://www.thetarholambda.org/event/chapter-meeting-may-2023/
LOCATION:TBD
CATEGORIES:Chapter Meetings
ATTACH;FMTTYPE=image/png:https://www.thetarholambda.org/wp-content/uploads/2022/10/chapter_meeting_logo.png
ORGANIZER;CN="Theta Rho Lambda":MAILTO:info@thetarholambda.org
END:VEVENT
BEGIN:VEVENT
DTSTART;TZID=America/New_York:20230408T100000
DTEND;TZID=America/New_York:20230408T120000
DTSTAMP:20260419T085655
CREATED:20221023T035307Z
LAST-MODIFIED:20221023T035445Z
UID:2847-1680948000-1680955200@www.thetarholambda.org
SUMMARY:Chapter Meeting (April 2023)
DESCRIPTION:The Theta Rho Lambda Chapter of Alpha Phi Alpha Fraternity\, Inc. will hold our December chapter meeting on Saturday\, April 8\, 2022\, commencing at 10:00 am. Please contact the chapter for details. The meeting is for Brothers only and the attire is Alpha Sharp.
URL:https://www.thetarholambda.org/event/chapter-meeting-april-2023/
LOCATION:TBD
CATEGORIES:Chapter Meetings
ATTACH;FMTTYPE=image/png:https://www.thetarholambda.org/wp-content/uploads/2022/10/chapter_meeting_logo.png
ORGANIZER;CN="Theta Rho Lambda":MAILTO:info@thetarholambda.org
END:VEVENT
BEGIN:VEVENT
DTSTART;TZID=America/New_York:20230311T100000
DTEND;TZID=America/New_York:20230311T120000
DTSTAMP:20260419T085655
CREATED:20221023T034832Z
LAST-MODIFIED:20221023T035103Z
UID:2845-1678528800-1678536000@www.thetarholambda.org
SUMMARY:Chapter Meeting (March 2023)
DESCRIPTION:The Theta Rho Lambda Chapter of Alpha Phi Alpha Fraternity\, Inc. will hold our December chapter meeting on Saturday\, March 11\, 2022\, commencing at 10:00 am. Please contact the chapter for details. The meeting is for Brothers only and the attire is Alpha Sharp.
URL:https://www.thetarholambda.org/event/chapter-meeting-march-2023/
LOCATION:TBD
CATEGORIES:Chapter Meetings
ATTACH;FMTTYPE=image/png:https://www.thetarholambda.org/wp-content/uploads/2022/10/chapter_meeting_logo.png
ORGANIZER;CN="Theta Rho Lambda":MAILTO:info@thetarholambda.org
END:VEVENT
BEGIN:VEVENT
DTSTART;TZID=America/New_York:20221210T100000
DTEND;TZID=America/New_York:20221210T120000
DTSTAMP:20260419T085655
CREATED:20221023T022814Z
LAST-MODIFIED:20221023T022814Z
UID:2817-1670666400-1670673600@www.thetarholambda.org
SUMMARY:Chapter Meeting (December 2022)
DESCRIPTION:The Theta Rho Lambda Chapter of Alpha Phi Alpha Fraternity\, Inc. will hold our December chapter meeting on Saturday\, December 9\, 2022\, commencing at 10:00 am. Please contact the chapter for details. The meeting is for Brothers only and the attire is Alpha Sharp.
URL:https://www.thetarholambda.org/event/chapter-meeting-december-2022/
LOCATION:TBD
CATEGORIES:Chapter Meetings
ATTACH;FMTTYPE=image/png:https://www.thetarholambda.org/wp-content/uploads/2022/10/chapter_meeting_logo.png
ORGANIZER;CN="Theta Rho Lambda":MAILTO:info@thetarholambda.org
END:VEVENT
END:VCALENDAR