BEGIN:VCALENDAR
VERSION:2.0
PRODID:-//Theta Rho Lambda Chapter of Alpha Phi Alpha Fraternity, Inc. - ECPv6.15.20//NONSGML v1.0//EN
CALSCALE:GREGORIAN
METHOD:PUBLISH
X-WR-CALNAME:Theta Rho Lambda Chapter of Alpha Phi Alpha Fraternity, Inc.
X-ORIGINAL-URL:https://www.thetarholambda.org
X-WR-CALDESC:Events for Theta Rho Lambda Chapter of Alpha Phi Alpha Fraternity, Inc.
REFRESH-INTERVAL;VALUE=DURATION:PT1H
X-Robots-Tag:noindex
X-PUBLISHED-TTL:PT1H
BEGIN:VTIMEZONE
TZID:America/New_York
BEGIN:DAYLIGHT
TZOFFSETFROM:-0500
TZOFFSETTO:-0400
TZNAME:EDT
DTSTART:20250309T070000
END:DAYLIGHT
BEGIN:STANDARD
TZOFFSETFROM:-0400
TZOFFSETTO:-0500
TZNAME:EST
DTSTART:20251102T060000
END:STANDARD
BEGIN:DAYLIGHT
TZOFFSETFROM:-0500
TZOFFSETTO:-0400
TZNAME:EDT
DTSTART:20260308T070000
END:DAYLIGHT
BEGIN:STANDARD
TZOFFSETFROM:-0400
TZOFFSETTO:-0500
TZNAME:EST
DTSTART:20261101T060000
END:STANDARD
BEGIN:DAYLIGHT
TZOFFSETFROM:-0500
TZOFFSETTO:-0400
TZNAME:EDT
DTSTART:20270314T070000
END:DAYLIGHT
BEGIN:STANDARD
TZOFFSETFROM:-0400
TZOFFSETTO:-0500
TZNAME:EST
DTSTART:20271107T060000
END:STANDARD
END:VTIMEZONE
BEGIN:VEVENT
DTSTART;TZID=America/New_York:20261114T100000
DTEND;TZID=America/New_York:20261114T120000
DTSTAMP:20260420T032213
CREATED:20260103T194512Z
LAST-MODIFIED:20260103T194512Z
UID:4290-1794650400-1794657600@www.thetarholambda.org
SUMMARY:Chapter Meeting (November 2026)
DESCRIPTION:The Theta Rho Lambda Chapter of Alpha Phi Alpha Fraternity\, Inc. will hold our November chapter meeting on Saturday\, November 14\, 2026\, commencing at 10:00 am. Please contact the chapter for details. The meeting is for Brothers only\, and the attire is Alpha Sharp.
URL:https://www.thetarholambda.org/event/chapter-meeting-november-2026/
LOCATION:TBD
CATEGORIES:Chapter Meetings
ATTACH;FMTTYPE=image/png:https://www.thetarholambda.org/wp-content/uploads/2025/04/chapter_meeting_logo.png
ORGANIZER;CN="Theta Rho Lambda":MAILTO:info@thetarholambda.org
END:VEVENT
BEGIN:VEVENT
DTSTART;TZID=America/New_York:20261212T100000
DTEND;TZID=America/New_York:20261212T120000
DTSTAMP:20260420T032213
CREATED:20260103T194627Z
LAST-MODIFIED:20260103T194627Z
UID:4292-1797069600-1797076800@www.thetarholambda.org
SUMMARY:Chapter Meeting (December 2026)
DESCRIPTION:The Theta Rho Lambda Chapter of Alpha Phi Alpha Fraternity\, Inc. will hold our December chapter meeting on Saturday\, December 12\, 2026\, commencing at 10:00 am. Please contact the chapter for details. The meeting is for Brothers only\, and the attire is Alpha Sharp.
URL:https://www.thetarholambda.org/event/chapter-meeting-december-2026/
LOCATION:TBD
CATEGORIES:Chapter Meetings
ATTACH;FMTTYPE=image/png:https://www.thetarholambda.org/wp-content/uploads/2025/04/chapter_meeting_logo.png
ORGANIZER;CN="Theta Rho Lambda":MAILTO:info@thetarholambda.org
END:VEVENT
END:VCALENDAR