BEGIN:VCALENDAR
VERSION:2.0
PRODID:-//Theta Rho Lambda Chapter of Alpha Phi Alpha Fraternity, Inc. - ECPv6.15.20//NONSGML v1.0//EN
CALSCALE:GREGORIAN
METHOD:PUBLISH
X-ORIGINAL-URL:https://www.thetarholambda.org
X-WR-CALDESC:Events for Theta Rho Lambda Chapter of Alpha Phi Alpha Fraternity, Inc.
REFRESH-INTERVAL;VALUE=DURATION:PT1H
X-Robots-Tag:noindex
X-PUBLISHED-TTL:PT1H
BEGIN:VTIMEZONE
TZID:America/New_York
BEGIN:DAYLIGHT
TZOFFSETFROM:-0500
TZOFFSETTO:-0400
TZNAME:EDT
DTSTART:20230312T070000
END:DAYLIGHT
BEGIN:STANDARD
TZOFFSETFROM:-0400
TZOFFSETTO:-0500
TZNAME:EST
DTSTART:20231105T060000
END:STANDARD
BEGIN:DAYLIGHT
TZOFFSETFROM:-0500
TZOFFSETTO:-0400
TZNAME:EDT
DTSTART:20240310T070000
END:DAYLIGHT
BEGIN:STANDARD
TZOFFSETFROM:-0400
TZOFFSETTO:-0500
TZNAME:EST
DTSTART:20241103T060000
END:STANDARD
BEGIN:DAYLIGHT
TZOFFSETFROM:-0500
TZOFFSETTO:-0400
TZNAME:EDT
DTSTART:20250309T070000
END:DAYLIGHT
BEGIN:STANDARD
TZOFFSETFROM:-0400
TZOFFSETTO:-0500
TZNAME:EST
DTSTART:20251102T060000
END:STANDARD
END:VTIMEZONE
BEGIN:VEVENT
DTSTART;TZID=America/New_York:20241015T200000
DTEND;TZID=America/New_York:20241015T210000
DTSTAMP:20260424T204055
CREATED:20241011T005016Z
LAST-MODIFIED:20241011T005016Z
UID:3960-1729022400-1729026000@www.thetarholambda.org
SUMMARY:Voter Engagement and Participation Webinar (2024)
DESCRIPTION:Join us on October 15th for a vital voter engagement webinar\, “Everyone Has a Voice\, Everyone Has a Vote”\, hosted by Postive Philter podcast in partnership with both Iota Alpha Chapter and Theta Rho Lambda Chapter of Alpha Phi Alpha Fraternity\, Inc. Learn how to get involved\, raise awareness\, and prepare for the upcoming elections. Let’s make our voice heard! \nWatch here: https://www.youtube.com/live/GtXur4F0ij0?si=dl3M2XgdThWEfISw
URL:https://www.thetarholambda.org/event/voter-engagement-and-participation-webinar-2024/
LOCATION:VA
CATEGORIES:National Program
ATTACH;FMTTYPE=image/jpeg:https://www.thetarholambda.org/wp-content/uploads/2024/10/trl-voter-engagement-webinar-flyer-10-15-24--scaled.jpg
ORGANIZER;CN="Theta Rho Lambda":MAILTO:info@thetarholambda.org
END:VEVENT
END:VCALENDAR