BEGIN:VCALENDAR
VERSION:2.0
PRODID:-//Theta Rho Lambda Chapter of Alpha Phi Alpha Fraternity, Inc. - ECPv6.15.20//NONSGML v1.0//EN
CALSCALE:GREGORIAN
METHOD:PUBLISH
X-WR-CALNAME:Theta Rho Lambda Chapter of Alpha Phi Alpha Fraternity, Inc.
X-ORIGINAL-URL:https://www.thetarholambda.org
X-WR-CALDESC:Events for Theta Rho Lambda Chapter of Alpha Phi Alpha Fraternity, Inc.
REFRESH-INTERVAL;VALUE=DURATION:PT1H
X-Robots-Tag:noindex
X-PUBLISHED-TTL:PT1H
BEGIN:VTIMEZONE
TZID:America/New_York
BEGIN:DAYLIGHT
TZOFFSETFROM:-0500
TZOFFSETTO:-0400
TZNAME:EDT
DTSTART:20240310T070000
END:DAYLIGHT
BEGIN:STANDARD
TZOFFSETFROM:-0400
TZOFFSETTO:-0500
TZNAME:EST
DTSTART:20241103T060000
END:STANDARD
BEGIN:DAYLIGHT
TZOFFSETFROM:-0500
TZOFFSETTO:-0400
TZNAME:EDT
DTSTART:20250309T070000
END:DAYLIGHT
BEGIN:STANDARD
TZOFFSETFROM:-0400
TZOFFSETTO:-0500
TZNAME:EST
DTSTART:20251102T060000
END:STANDARD
BEGIN:DAYLIGHT
TZOFFSETFROM:-0500
TZOFFSETTO:-0400
TZNAME:EDT
DTSTART:20260308T070000
END:DAYLIGHT
BEGIN:STANDARD
TZOFFSETFROM:-0400
TZOFFSETTO:-0500
TZNAME:EST
DTSTART:20261101T060000
END:STANDARD
END:VTIMEZONE
BEGIN:VEVENT
DTSTART;TZID=America/New_York:20250416T200000
DTEND;TZID=America/New_York:20250416T210000
DTSTAMP:20260424T111731
CREATED:20250411T170633Z
LAST-MODIFIED:20250411T170633Z
UID:4066-1744833600-1744837200@www.thetarholambda.org
SUMMARY:Black Voter Awareness Webinar Series 2025
DESCRIPTION:Join the brothers of Alpha Phi Alpha Fraternity\, Inc.\, Theta Rho Lambda Chapter on April 16th as we partner with the Positive Philter podcast and Progress for All for Part One of a two-part series on Black male voter engagement. This session will feature Black male elected officials and advocates discussing key challenges and opportunities in voter participation. With elections approaching\, now is the time to get informed and take action.\n\nBe part of the conversation and empower your vote!
URL:https://www.thetarholambda.org/event/black-voter-awareness-webinar-series-2025/
LOCATION:VA
CATEGORIES:National Program
ATTACH;FMTTYPE=image/png:https://www.thetarholambda.org/wp-content/uploads/2025/04/black-male-voter-awareness-webinar-series-2025.png
ORGANIZER;CN="Theta Rho Lambda":MAILTO:info@thetarholambda.org
END:VEVENT
END:VCALENDAR