BEGIN:VCALENDAR
VERSION:2.0
PRODID:-//Theta Rho Lambda Chapter of Alpha Phi Alpha Fraternity, Inc. - ECPv6.15.20//NONSGML v1.0//EN
CALSCALE:GREGORIAN
METHOD:PUBLISH
X-ORIGINAL-URL:https://www.thetarholambda.org
X-WR-CALDESC:Events for Theta Rho Lambda Chapter of Alpha Phi Alpha Fraternity, Inc.
REFRESH-INTERVAL;VALUE=DURATION:PT1H
X-Robots-Tag:noindex
X-PUBLISHED-TTL:PT1H
BEGIN:VTIMEZONE
TZID:America/New_York
BEGIN:DAYLIGHT
TZOFFSETFROM:-0500
TZOFFSETTO:-0400
TZNAME:EDT
DTSTART:20220313T070000
END:DAYLIGHT
BEGIN:STANDARD
TZOFFSETFROM:-0400
TZOFFSETTO:-0500
TZNAME:EST
DTSTART:20221106T060000
END:STANDARD
BEGIN:DAYLIGHT
TZOFFSETFROM:-0500
TZOFFSETTO:-0400
TZNAME:EDT
DTSTART:20230312T070000
END:DAYLIGHT
BEGIN:STANDARD
TZOFFSETFROM:-0400
TZOFFSETTO:-0500
TZNAME:EST
DTSTART:20231105T060000
END:STANDARD
BEGIN:DAYLIGHT
TZOFFSETFROM:-0500
TZOFFSETTO:-0400
TZNAME:EDT
DTSTART:20240310T070000
END:DAYLIGHT
BEGIN:STANDARD
TZOFFSETFROM:-0400
TZOFFSETTO:-0500
TZNAME:EST
DTSTART:20241103T060000
END:STANDARD
BEGIN:DAYLIGHT
TZOFFSETFROM:-0500
TZOFFSETTO:-0400
TZNAME:EDT
DTSTART:20250309T070000
END:DAYLIGHT
BEGIN:STANDARD
TZOFFSETFROM:-0400
TZOFFSETTO:-0500
TZNAME:EST
DTSTART:20251102T060000
END:STANDARD
BEGIN:DAYLIGHT
TZOFFSETFROM:-0500
TZOFFSETTO:-0400
TZNAME:EDT
DTSTART:20260308T070000
END:DAYLIGHT
BEGIN:STANDARD
TZOFFSETFROM:-0400
TZOFFSETTO:-0500
TZNAME:EST
DTSTART:20261101T060000
END:STANDARD
END:VTIMEZONE
BEGIN:VEVENT
DTSTART;TZID=America/New_York:20250711T183000
DTEND;TZID=America/New_York:20250711T210000
DTSTAMP:20260419T111632
CREATED:20250709T012137Z
LAST-MODIFIED:20250709T012137Z
UID:4109-1752258600-1752267600@www.thetarholambda.org
SUMMARY:Phirst Friday Happy Hour (July 2025)
DESCRIPTION:Theta Rho Lambda will host Phirst Fridays at Blackwall Hitch. All are welcome to attend.
URL:https://www.thetarholambda.org/event/phirst-friday-happy-hour-july-2025/
LOCATION:Blackwall Hitch\, 5 Cameron St.\, Alexandria\, VA\, 22314
CATEGORIES:Phirst Phridays
ATTACH;FMTTYPE=image/jpeg:https://www.thetarholambda.org/wp-content/uploads/2025/07/07-july-phrist-friday-flyer-2025.jpg
ORGANIZER;CN="Theta Rho Lambda":MAILTO:info@thetarholambda.org
END:VEVENT
BEGIN:VEVENT
DTSTART;TZID=America/New_York:20250606T183000
DTEND;TZID=America/New_York:20250606T210000
DTSTAMP:20260419T111632
CREATED:20250403T015314Z
LAST-MODIFIED:20250528T012836Z
UID:4063-1749234600-1749243600@www.thetarholambda.org
SUMMARY:Phirst Friday Happy Hour (June 2025)
DESCRIPTION:Theta Rho Lambda will host Phirst Fridays at Auggies Mussel House. All are welcome to attend.
URL:https://www.thetarholambda.org/event/phirst-friday-happy-hour-june-2025/
LOCATION:Auggies Mussel House\, 1106 King St.\, Alexandria\, VA\, 22314
CATEGORIES:Phirst Phridays
ATTACH;FMTTYPE=image/png:https://www.thetarholambda.org/wp-content/uploads/2025/04/06-june-phrist-friday-flyer-2025.png
ORGANIZER;CN="Theta Rho Lambda":MAILTO:info@thetarholambda.org
END:VEVENT
BEGIN:VEVENT
DTSTART;TZID=America/New_York:20250502T183000
DTEND;TZID=America/New_York:20250502T210000
DTSTAMP:20260419T111632
CREATED:20250311T230050Z
LAST-MODIFIED:20250311T230050Z
UID:4054-1746210600-1746219600@www.thetarholambda.org
SUMMARY:Phirst Friday Happy Hour (May 2025)
DESCRIPTION:Theta Rho Lambda will host Phirst Fridays at Don Tito. All are welcome to attend.
URL:https://www.thetarholambda.org/event/phirst-friday-happy-hour-may-2025/
LOCATION:Don Tito\, 3165 Wilson Blvd\, Arlington\, VA\, 22201
CATEGORIES:Phirst Phridays
ATTACH;FMTTYPE=image/png:https://www.thetarholambda.org/wp-content/uploads/2025/03/05-may-phrist-friday-flyer-2025.png
ORGANIZER;CN="Theta Rho Lambda":MAILTO:info@thetarholambda.org
END:VEVENT
BEGIN:VEVENT
DTSTART;TZID=America/New_York:20250404T183000
DTEND;TZID=America/New_York:20250404T210000
DTSTAMP:20260419T111632
CREATED:20250311T225059Z
LAST-MODIFIED:20250311T225446Z
UID:4050-1743791400-1743800400@www.thetarholambda.org
SUMMARY:Phirst Friday Happy Hour (April 2025)
DESCRIPTION:Theta Rho Lambda will host Phirst Fridays at Diko Lounge. All are welcome to attend.
URL:https://www.thetarholambda.org/event/phirst-friday-happy-hour-april-2025/
LOCATION:Diko Lounge\, 5245 Duke St.\, Alexandria\, VA\, 22304
CATEGORIES:Phirst Phridays
ATTACH;FMTTYPE=image/png:https://www.thetarholambda.org/wp-content/uploads/2025/03/04-april-phrist-friday-flyer-2025.png
ORGANIZER;CN="Theta Rho Lambda":MAILTO:info@thetarholambda.org
END:VEVENT
BEGIN:VEVENT
DTSTART;TZID=America/New_York:20250307T183000
DTEND;TZID=America/New_York:20250307T210000
DTSTAMP:20260419T111632
CREATED:20250126T164527Z
LAST-MODIFIED:20250126T164527Z
UID:4028-1741372200-1741381200@www.thetarholambda.org
SUMMARY:Phirst Friday Happy Hour (March 2025)
DESCRIPTION:Theta Rho Lambda will host Phirst Fridays at Buffalo Wild Wings. All are welcome to attend.
URL:https://www.thetarholambda.org/event/phirst-friday-happy-hour-march-2025/
LOCATION:Buffalo Wild Wings\, 7732 Richmond Hwy\, Alexandria\, VA\, 22306
CATEGORIES:Phirst Phridays
ATTACH;FMTTYPE=image/jpeg:https://www.thetarholambda.org/wp-content/uploads/2025/01/march-phrist-friday-flyer-2025.jpg
ORGANIZER;CN="Theta Rho Lambda":MAILTO:info@thetarholambda.org
END:VEVENT
BEGIN:VEVENT
DTSTART;TZID=America/New_York:20250207T183000
DTEND;TZID=America/New_York:20250207T210000
DTSTAMP:20260419T111632
CREATED:20250126T163833Z
LAST-MODIFIED:20250126T163833Z
UID:4025-1738953000-1738962000@www.thetarholambda.org
SUMMARY:Phirst Friday Happy Hour (February 2025)
DESCRIPTION:Theta Rho Lambda will host Phirst Fridays at Highline RxR. All are welcome to attend.
URL:https://www.thetarholambda.org/event/phirst-friday-happy-hour-february-2025/
LOCATION:Highline RxR\, 2010 Crystal Dr\, Arlington\, 22202\, United States
CATEGORIES:Phirst Phridays
ATTACH;FMTTYPE=image/jpeg:https://www.thetarholambda.org/wp-content/uploads/2025/01/february-phrist-friday-flyer-2025.jpg
ORGANIZER;CN="Theta Rho Lambda":MAILTO:info@thetarholambda.org
END:VEVENT
BEGIN:VEVENT
DTSTART;TZID=America/New_York:20250103T183000
DTEND;TZID=America/New_York:20250103T210000
DTSTAMP:20260419T111632
CREATED:20241220T014245Z
LAST-MODIFIED:20241220T014324Z
UID:3995-1735929000-1735938000@www.thetarholambda.org
SUMMARY:Phirst Friday Happy Hour (January 2025)
DESCRIPTION:Theta Rho Lambda will host Phirst Fridays at Darna. All are welcome to attend.
URL:https://www.thetarholambda.org/event/phirst-friday-happy-hour-january-2025-2/
LOCATION:Darna\, 946 N Jackson St.\, Arlington\, VA\, 22201\, United States
CATEGORIES:Phirst Phridays
ATTACH;FMTTYPE=image/jpeg:https://www.thetarholambda.org/wp-content/uploads/2024/12/january-phrist-friday-flyer-2025.jpg
ORGANIZER;CN="Theta Rho Lambda":MAILTO:info@thetarholambda.org
END:VEVENT
BEGIN:VEVENT
DTSTART;TZID=America/New_York:20241214T143000
DTEND;TZID=America/New_York:20241214T170000
DTSTAMP:20260419T111632
CREATED:20241111T030452Z
LAST-MODIFIED:20241212T162138Z
UID:3971-1734186600-1734195600@www.thetarholambda.org
SUMMARY:60th Charter Day Luncheon
DESCRIPTION:The Theta Rho Lambda Chapter of Alpha Phi Alpha Fraternity\, Inc. will celebrate our charter day by hosting a Brothers Only Luncheon! Join us for a special celebration at McCormick & Schmick’s Seafood & Steaks as we commemorate 60 years of brotherhood and service. This event will be a wonderful opportunity to reconnect with brothers\, make new memories\, and honor our fraternity’s rich history. Each attendee will receive a commemorative 60th Anniversary lapel pin. Don’t miss out on this milestone occasion – purchase your ticket today and secure your spot at the luncheon! \nPurchase here: https://www.eventbrite.com/e/theta-rho-lambda-60th-charter-day-luncheon-tickets-1075262612419
URL:https://www.thetarholambda.org/event/60th-charter-day-luncheon/
LOCATION:McCormick & Schmick’s Seafood & Steaks\, 2010 Crystal Drive\, Arlington\, VA\, 22202
CATEGORIES:Social Events
ATTACH;FMTTYPE=image/jpeg:https://www.thetarholambda.org/wp-content/uploads/2024/11/60th-charter-day-luncheon-flyer-scaled.jpg
ORGANIZER;CN="Theta Rho Lambda":MAILTO:info@thetarholambda.org
END:VEVENT
BEGIN:VEVENT
DTSTART;TZID=America/New_York:20241207T080000
DTEND;TZID=America/New_York:20241207T120000
DTSTAMP:20260419T111632
CREATED:20241015T030129Z
LAST-MODIFIED:20241015T030129Z
UID:3962-1733558400-1733572800@www.thetarholambda.org
SUMMARY:Area IV - 2024 Founders' Day Brunch Celebration
DESCRIPTION:Join the brothers of Alpha Phi Alpha Fraternity\, Inc. Area 4 from the VACAPAF District for the 2024 Founders Day Brunch! 🎉✨ \nLocation: Old Hickory Golf Club\, 11921 Chanceford Dr\, Woodbridge\, VA 22192 \nCelebrate the rich legacy and fellowship with brothers. Don’t miss out!\nPurchase your tickets at the link here: https://is.gd/WyUMUI\n#Area4 #Alphas #VACAPAF
URL:https://www.thetarholambda.org/event/area-iv-2024-founders-day-brunch-celebration/
LOCATION:VA
CATEGORIES:Social Events
ATTACH;FMTTYPE=image/jpeg:https://www.thetarholambda.org/wp-content/uploads/2024/10/area-four-founders-day-breakfast-flyer-2024.jpeg
END:VEVENT
BEGIN:VEVENT
DTSTART;TZID=America/New_York:20241206T183000
DTEND;TZID=America/New_York:20241206T210000
DTSTAMP:20260419T111632
CREATED:20241124T025423Z
LAST-MODIFIED:20241124T025504Z
UID:3984-1733509800-1733518800@www.thetarholambda.org
SUMMARY:Phirst Friday Happy Hour (December 2024)
DESCRIPTION:Theta Rho Lambda will host Phirst Fridays at Hen Quarter. All are welcome to attend.
URL:https://www.thetarholambda.org/event/phirst-friday-happy-hour-december-2024/
LOCATION:Hen Quarter\, 801 King St.\, Alexandria\, VA\, 22314\, United States
CATEGORIES:Phirst Phridays,Social Events
ATTACH;FMTTYPE=image/png:https://www.thetarholambda.org/wp-content/uploads/2024/11/december-phirst-friday-flyer-2024.png
ORGANIZER;CN="Theta Rho Lambda":MAILTO:info@thetarholambda.org
END:VEVENT
BEGIN:VEVENT
DTSTART;TZID=America/New_York:20241101T183000
DTEND;TZID=America/New_York:20241101T210000
DTSTAMP:20260419T111632
CREATED:20241029T215548Z
LAST-MODIFIED:20241029T215548Z
UID:3966-1730485800-1730494800@www.thetarholambda.org
SUMMARY:Phirst Friday Happy Hour (November 2024)
DESCRIPTION:Theta Rho Lambda will host Phirst Fridays at Frankie’s Kitchen and Cocktail Bar. All are welcome to attend.
URL:https://www.thetarholambda.org/event/phirst-friday-happy-hour-november-2024/
LOCATION:Frankie’s Kitchen and Cocktail Bar\, 823 S Washington St.\, Alexandria\, VA\, 22314
CATEGORIES:Phirst Phridays
ATTACH;FMTTYPE=image/jpeg:https://www.thetarholambda.org/wp-content/uploads/2024/10/november-phrist-friday-flyer-2024.jpg
ORGANIZER;CN="Theta Rho Lambda":MAILTO:info@thetarholambda.org
END:VEVENT
BEGIN:VEVENT
DTSTART;TZID=America/New_York:20241026T150000
DTEND;TZID=America/New_York:20241026T170000
DTSTAMP:20260419T111632
CREATED:20240929T011908Z
LAST-MODIFIED:20241001T231251Z
UID:3948-1729954800-1729962000@www.thetarholambda.org
SUMMARY:Pumpkin Carving With The Alphas (2024)
DESCRIPTION:The brothers of Theta Rho Lambda will be hosting a Pumpkin Carving / Family Park Day event on Saturday\, October 26th. \nThe event will be held at Hayes Park and will start at 3:00 pm. All children are welcome to attend whether they be friends\, family\, or your own.\n\nWe do ask that you register the child/children using the link below no later than October 24th so that we can purchase the correct amount of pumpkins.\n\nRegistration Link: https://forms.gle/oabHowFEH2dq4uTD8
URL:https://www.thetarholambda.org/event/pumpkin-carving-with-the-alphas-2024/
LOCATION:Hayes Park\, 1516 N. Lincoln St.\, Arlington\, VA\, 22201
CATEGORIES:Social Events
ATTACH;FMTTYPE=image/jpeg:https://www.thetarholambda.org/wp-content/uploads/2024/09/pumpking-carving-with-the-alphas-2024.jpg
ORGANIZER;CN="Theta Rho Lambda":MAILTO:info@thetarholambda.org
END:VEVENT
BEGIN:VEVENT
DTSTART;TZID=America/New_York:20241004T180000
DTEND;TZID=America/New_York:20241004T210000
DTSTAMP:20260419T111632
CREATED:20240923T155850Z
LAST-MODIFIED:20240923T155850Z
UID:3945-1728064800-1728075600@www.thetarholambda.org
SUMMARY:Phirst Friday Happy Hour (October 2024)
DESCRIPTION:Theta Rho Lambda will host Phirst Fridays at Spider Kellys. All are welcome to attend.
URL:https://www.thetarholambda.org/event/phirst-friday-happy-hour-october-2024/
LOCATION:Spider Kelly’s\, 3181 Wilson Blvd\, Arlington\, VA\, 22201\, United States
CATEGORIES:Phirst Phridays
ATTACH;FMTTYPE=image/jpeg:https://www.thetarholambda.org/wp-content/uploads/2024/09/october-phrist-friday-flyer-2024.png.jpg
ORGANIZER;CN="Theta Rho Lambda":MAILTO:info@thetarholambda.org
END:VEVENT
BEGIN:VEVENT
DTSTART;TZID=America/New_York:20240906T180000
DTEND;TZID=America/New_York:20240906T210000
DTSTAMP:20260419T111632
CREATED:20240825T020555Z
LAST-MODIFIED:20240825T020555Z
UID:3917-1725645600-1725656400@www.thetarholambda.org
SUMMARY:Phirst Friday Happy Hour (August 2024)
DESCRIPTION:Theta Rho Lambda will host Phirst Fridays at Continental Beer Garden. All are welcome to attend.
URL:https://www.thetarholambda.org/event/phirst-friday-happy-hour-august-2024/
LOCATION:Continental Beer Garden\, 1901 Ft. Myer Dr.\, Arlington\, VA\, 22209
CATEGORIES:Phirst Phridays
ATTACH;FMTTYPE=image/png:https://www.thetarholambda.org/wp-content/uploads/2024/08/september-phrist-friday-flyer-2024.png
ORGANIZER;CN="Theta Rho Lambda":MAILTO:info@thetarholambda.org
END:VEVENT
BEGIN:VEVENT
DTSTART;TZID=America/New_York:20240803T120000
DTEND;TZID=America/New_York:20240803T160000
DTSTAMP:20260419T111632
CREATED:20240516T010714Z
LAST-MODIFIED:20240516T010714Z
UID:3887-1722686400-1722700800@www.thetarholambda.org
SUMMARY:Chapter Cookout 2024
DESCRIPTION:Theta Rho Lambda will hold our annual cookout on August 3rd. All are welcome to attend.
URL:https://www.thetarholambda.org/event/chapter-cookout-2024/
LOCATION:Quincy Park\, 1021 N. Quincy St.\, Arlington\, VA\, 22203
CATEGORIES:Social Events
ATTACH;FMTTYPE=image/png:https://www.thetarholambda.org/wp-content/uploads/2024/05/chapter-cookout-flyer-2024.png
ORGANIZER;CN="Theta Rho Lambda":MAILTO:info@thetarholambda.org
END:VEVENT
BEGIN:VEVENT
DTSTART;TZID=America/New_York:20240712T180000
DTEND;TZID=America/New_York:20240712T210000
DTSTAMP:20260419T111632
CREATED:20240629T032007Z
LAST-MODIFIED:20240629T032007Z
UID:3896-1720807200-1720818000@www.thetarholambda.org
SUMMARY:Phirst Friday Happy Hour (July 2024)
DESCRIPTION:Theta Rho Lambda will host Phirst Fridays at Bar Bao. All are welcome to attend.
URL:https://www.thetarholambda.org/event/phirst-friday-happy-hour-july-2024/
LOCATION:Bar Bao\, 3100 Clarendon Blvd\, Arlington\, VA\, 22201\, United States
CATEGORIES:Phirst Phridays
ATTACH;FMTTYPE=image/png:https://www.thetarholambda.org/wp-content/uploads/2024/06/july-phrist-friday-flyer-2024.png
ORGANIZER;CN="Theta Rho Lambda":MAILTO:info@thetarholambda.org
END:VEVENT
BEGIN:VEVENT
DTSTART;TZID=America/New_York:20240503T180000
DTEND;TZID=America/New_York:20240503T210000
DTSTAMP:20260419T111632
CREATED:20240430T235012Z
LAST-MODIFIED:20240430T235012Z
UID:3874-1714759200-1714770000@www.thetarholambda.org
SUMMARY:Phirst Friday Happy Hour (May 2024)
DESCRIPTION:Theta Rho Lambda will host Phirst Fridays at Uncle Julios. All are welcome to attend.
URL:https://www.thetarholambda.org/event/phirst-friday-happy-hour-may-2024/
LOCATION:Uncle Julios\, 4301 Fairfax Dr. #100\, Arlington\, VA\, 22203\, United States
CATEGORIES:Phirst Phridays
ATTACH;FMTTYPE=image/jpeg:https://www.thetarholambda.org/wp-content/uploads/2024/04/may-phrist-friday-flyer-2024.jpg
END:VEVENT
BEGIN:VEVENT
DTSTART;TZID=America/New_York:20240405T180000
DTEND;TZID=America/New_York:20240405T210000
DTSTAMP:20260419T111632
CREATED:20240316T225941Z
LAST-MODIFIED:20240316T230305Z
UID:3861-1712340000-1712350800@www.thetarholambda.org
SUMMARY:Phirst Friday Happy Hour (April 2024)
DESCRIPTION:Theta Rho Lambda will host Phirst Fridays at Bowlero. All are welcome to attend.
URL:https://www.thetarholambda.org/event/phirst-friday-happy-hour-april-2024/
LOCATION:Bowlero\, 320 23rd St. S.\, Crystal City\, VA\, 22202\, United States
CATEGORIES:Phirst Phridays
ATTACH;FMTTYPE=image/png:https://www.thetarholambda.org/wp-content/uploads/2024/03/april-phrist-friday-flyer-2024.png
END:VEVENT
BEGIN:VEVENT
DTSTART;TZID=America/New_York:20240308T180000
DTEND;TZID=America/New_York:20240308T210000
DTSTAMP:20260419T111632
CREATED:20240206T164144Z
LAST-MODIFIED:20240206T164144Z
UID:3797-1709920800-1709931600@www.thetarholambda.org
SUMMARY:March of Dimes Happy Hour (March 2024)
DESCRIPTION:Come join the brothers of Theta Rho Lambda at Buffalo Wild Wings to raise funds for healthy mothers and babies.
URL:https://www.thetarholambda.org/event/march-of-dimes-happy-hour-march-2024/
LOCATION:Buffalo Wild Wings\, 7732 Richmond Hwy\, Alexandria\, VA\, 22306
CATEGORIES:Social Events
ATTACH;FMTTYPE=image/png:https://www.thetarholambda.org/wp-content/uploads/2024/02/mod_fundraising_hh_flyer_mar_2024.png
ORGANIZER;CN="Theta Rho Lambda":MAILTO:info@thetarholambda.org
END:VEVENT
BEGIN:VEVENT
DTSTART;TZID=America/New_York:20240105T180000
DTEND;TZID=America/New_York:20240105T210000
DTSTAMP:20260419T111632
CREATED:20231225T014027Z
LAST-MODIFIED:20231225T014102Z
UID:3782-1704477600-1704488400@www.thetarholambda.org
SUMMARY:Phirst Friday Happy Hour (January 2024)
DESCRIPTION:Theta Rho Lambda will host Phirst Fridays at Darna. All are welcome to attend.
URL:https://www.thetarholambda.org/event/phirst-friday-happy-hour-january-2024/
LOCATION:Darna\, 946 N Jackson St.\, Arlington\, VA\, 22201\, United States
CATEGORIES:Phirst Phridays
ATTACH;FMTTYPE=image/jpeg:https://www.thetarholambda.org/wp-content/uploads/2023/12/january-phrist-friday-flyer-2024.jpg
ORGANIZER;CN="Theta Rho Lambda":MAILTO:info@thetarholambda.org
END:VEVENT
BEGIN:VEVENT
DTSTART;TZID=America/New_York:20231230T190000
DTEND;TZID=America/New_York:20231230T220000
DTSTAMP:20260419T111632
CREATED:20231005T021003Z
LAST-MODIFIED:20231005T021003Z
UID:3717-1703962800-1703973600@www.thetarholambda.org
SUMMARY:Charter Day Celebration (2023)
DESCRIPTION:Theta Rho Lambda will host a Brothers Only Charter Day celebration on December 30th at Punch Bowl Social.
URL:https://www.thetarholambda.org/event/charter-day-celebration-2023/
LOCATION:Punch Bowl Social\, 4238 Wilson Blvd STE 1180\, Arlington\, Virginia\, 22203
CATEGORIES:Social Events
ATTACH;FMTTYPE=image/png:https://www.thetarholambda.org/wp-content/uploads/2023/10/charter-day-celebration-2023.png
ORGANIZER;CN="Theta Rho Lambda":MAILTO:info@thetarholambda.org
END:VEVENT
BEGIN:VEVENT
DTSTART;TZID=America/New_York:20231202T080000
DTEND;TZID=America/New_York:20231202T110000
DTSTAMP:20260419T111632
CREATED:20231112T013251Z
LAST-MODIFIED:20231112T013251Z
UID:3765-1701504000-1701514800@www.thetarholambda.org
SUMMARY:Area IV Founders Day Breakfast (2023)
DESCRIPTION:Join us for a delicious breakfast at 13020 Telegraph Road\, Woodbridge\, VA\, USA to celebrate the founding of our beloved Fraternity. Start your day with a hearty meal and connect with Brothers of Alpha Phi Alpha Fraternity\, Inc. This in-person event promises a delightful morning filled with Brotherhood\, laughter\, stories\, and camaraderie. See you there! \n\nTickets can be purchased here: https://eventbrite.com/e/alpha-phi-alpha-fraternity-inc-area-iv-founders-day-breakfast-tickets-750274540347?aff=ebdssbdestsearch.
URL:https://www.thetarholambda.org/event/area-iv-founders-day-breakfast-2023/
LOCATION:Ebenezer Baptist Church\, 13020 Telegraph Rd\, Woodbridge\, VA\, 22192
CATEGORIES:Brothers Only,Social Events
ATTACH;FMTTYPE=image/jpeg:https://www.thetarholambda.org/wp-content/uploads/2023/11/area-four-founers-day-braekfast-2023.jpg
END:VEVENT
BEGIN:VEVENT
DTSTART;TZID=America/New_York:20231201T180000
DTEND;TZID=America/New_York:20231201T210000
DTSTAMP:20260419T111632
CREATED:20231005T015655Z
LAST-MODIFIED:20231005T015730Z
UID:3715-1701453600-1701464400@www.thetarholambda.org
SUMMARY:Phirst Friday Happy Hour (December 2023)
DESCRIPTION:Theta Rho Lambda will host a special Founders Day Edition of Phirst Fridays at Hen Quarter. All are welcome to attend.
URL:https://www.thetarholambda.org/event/phirst-friday-happy-hour-december-2023/
LOCATION:Hen Quarter\, 801 King St.\, Alexandria\, VA\, 22314\, United States
CATEGORIES:Phirst Phridays
ATTACH;FMTTYPE=image/png:https://www.thetarholambda.org/wp-content/uploads/2023/10/december-phirst-friday-flyer-2023.png
ORGANIZER;CN="Theta Rho Lambda":MAILTO:info@thetarholambda.org
END:VEVENT
BEGIN:VEVENT
DTSTART;TZID=America/New_York:20231103T180000
DTEND;TZID=America/New_York:20231103T210000
DTSTAMP:20260419T111632
CREATED:20231005T015131Z
LAST-MODIFIED:20231005T015513Z
UID:3709-1699034400-1699045200@www.thetarholambda.org
SUMMARY:Phirst Friday Happy Hour (November 2023)
DESCRIPTION:Theta Rho Lambda will host Phirst Fridays at Astro Beer Hall. All are welcome to attend.
URL:https://www.thetarholambda.org/event/phirst-friday-happy-hour-november-2023/
LOCATION:Astro Beer Hall\, 4001 Campbell Ave\, Arlington\, VA\, 22206
CATEGORIES:Phirst Phridays
ATTACH;FMTTYPE=image/png:https://www.thetarholambda.org/wp-content/uploads/2023/10/november-phirst-friday-flyer-2023.png
ORGANIZER;CN="Theta Rho Lambda":MAILTO:info@thetarholambda.org
END:VEVENT
BEGIN:VEVENT
DTSTART;TZID=America/New_York:20231028T140000
DTEND;TZID=America/New_York:20231028T160000
DTSTAMP:20260419T111632
CREATED:20230928T041107Z
LAST-MODIFIED:20231017T044053Z
UID:3701-1698501600-1698508800@www.thetarholambda.org
SUMMARY:Pumpkin Carving With The Alphas
DESCRIPTION:The brothers of Theta Rho Lambda will be hosting a Pumpkin Carving / Family Park Day event on Saturday\, October 28th. \nThe event will be held at Hayes Park and will start at 2:00 pm. All children are welcome to attend whether they be friends\, family\, or your own.\n\nWe do ask that you register the child/children using the link below no later than October 26th so that we can purchase the correct amount of pumpkins.\n\nRegistration Link: https://forms.gle/NwLTgUNK5VDPXUwb9
URL:https://www.thetarholambda.org/event/pumpkin-carving-with-the-alphas/
LOCATION:Hayes Park\, 1516 N. Lincoln St.\, Arlington\, VA\, 22201
CATEGORIES:Social Events
ATTACH;FMTTYPE=image/png:https://www.thetarholambda.org/wp-content/uploads/2023/09/carving-with-the-alphas-2023.png
ORGANIZER;CN="Theta Rho Lambda":MAILTO:info@thetarholambda.org
END:VEVENT
BEGIN:VEVENT
DTSTART;TZID=America/New_York:20231006T180000
DTEND;TZID=America/New_York:20231006T210000
DTSTAMP:20260419T111632
CREATED:20230910T001736Z
LAST-MODIFIED:20230910T001736Z
UID:3677-1696615200-1696626000@www.thetarholambda.org
SUMMARY:Phirst Friday Happy Hour (October 2023)
DESCRIPTION:Theta Rho Lambda will host Phirst Fridays at Spider Kelly’s. All are welcome to attend.
URL:https://www.thetarholambda.org/event/phirst-friday-happy-hour-october-2023/
LOCATION:Spider Kelly’s\, 3181 Wilson Blvd\, Arlington\, VA\, 22201\, United States
CATEGORIES:Phirst Phridays
ATTACH;FMTTYPE=image/png:https://www.thetarholambda.org/wp-content/uploads/2023/09/october-phrist-friday-flyer-2023.png
ORGANIZER;CN="Theta Rho Lambda":MAILTO:info@thetarholambda.org
END:VEVENT
BEGIN:VEVENT
DTSTART;TZID=America/New_York:20230901T180000
DTEND;TZID=America/New_York:20230901T210000
DTSTAMP:20260419T111632
CREATED:20230730T170736Z
LAST-MODIFIED:20230730T170924Z
UID:3635-1693591200-1693602000@www.thetarholambda.org
SUMMARY:Phirst Friday Happy Hour (September 2023)
DESCRIPTION:Theta Rho Lambda will host Phirst Fridays at Continental Beer Garden. All are welcome to attend.
URL:https://www.thetarholambda.org/event/phirst-friday-happy-hour-september-2023/
LOCATION:Continental Beer Garden\, 1901 Ft. Myer Dr.\, Arlington\, VA\, 22209
CATEGORIES:Phirst Phridays
ATTACH;FMTTYPE=image/png:https://www.thetarholambda.org/wp-content/uploads/2023/07/september-phrist-friday-flyer-2023.png
ORGANIZER;CN="Theta Rho Lambda":MAILTO:info@thetarholambda.org
END:VEVENT
BEGIN:VEVENT
DTSTART;TZID=America/New_York:20230805T120000
DTEND;TZID=America/New_York:20230805T160000
DTSTAMP:20260419T111632
CREATED:20230614T031443Z
LAST-MODIFIED:20230614T031443Z
UID:3595-1691236800-1691251200@www.thetarholambda.org
SUMMARY:Chapter Cookout 2023
DESCRIPTION:Theta Rho Lambda will hold our annual cookout on August 4th. All are welcome to attend.
URL:https://www.thetarholambda.org/event/chapter-cookout-2023/
LOCATION:Quincy Park\, 1021 N. Quincy St.\, Arlington\, VA\, 22203
CATEGORIES:Social Events
ATTACH;FMTTYPE=image/png:https://www.thetarholambda.org/wp-content/uploads/2023/06/chapter-cookout-flyer-2023.png
ORGANIZER;CN="Theta Rho Lambda":MAILTO:info@thetarholambda.org
END:VEVENT
BEGIN:VEVENT
DTSTART;TZID=America/New_York:20230804T180000
DTEND;TZID=America/New_York:20230804T210000
DTSTAMP:20260419T111632
CREATED:20230706T144453Z
LAST-MODIFIED:20230706T144453Z
UID:3629-1691172000-1691182800@www.thetarholambda.org
SUMMARY:Phirst Friday Happy Hour (August 2023)
DESCRIPTION:Theta Rho Lambda will host Phirst Fridays at Bar Bao. All are welcome to attend.
URL:https://www.thetarholambda.org/event/phirst-friday-happy-hour-august-2023/
LOCATION:Bar Bao\, 3100 Clarendon Blvd\, Arlington\, VA\, 22201\, United States
CATEGORIES:Phirst Phridays
ATTACH;FMTTYPE=image/png:https://www.thetarholambda.org/wp-content/uploads/2023/07/august-phirst-friday-flyer-2023.png
ORGANIZER;CN="Theta Rho Lambda":MAILTO:info@thetarholambda.org
END:VEVENT
BEGIN:VEVENT
DTSTART;TZID=America/New_York:20230707T180000
DTEND;TZID=America/New_York:20230707T210000
DTSTAMP:20260419T111632
CREATED:20230614T030918Z
LAST-MODIFIED:20230614T030918Z
UID:3594-1688752800-1688763600@www.thetarholambda.org
SUMMARY:Phirst Friday Happy Hour (July 2023)
DESCRIPTION:Theta Rho Lambda will host Phirst Fridays at Blackwall Hitch. All are welcome to attend.
URL:https://www.thetarholambda.org/event/phirst-friday-happy-hour-july-2023/
LOCATION:Blackwall Hitch\, 5 Cameron St.\, Alexandria\, VA\, 22314
CATEGORIES:Phirst Phridays
ATTACH;FMTTYPE=image/jpeg:https://www.thetarholambda.org/wp-content/uploads/2023/06/july-phirst-friday-flyer-2023.jpg
ORGANIZER;CN="Theta Rho Lambda":MAILTO:info@thetarholambda.org
END:VEVENT
END:VCALENDAR